BEGIN:VCALENDAR
VERSION:2.0
PRODID:-//ChamberMaster//Event Calendar 2.0//EN
METHOD:PUBLISH
X-PUBLISHED-TTL:P3D
REFRESH-INTERVAL:P3D
CALSCALE:GREGORIAN
BEGIN:VEVENT
DTSTART:20181129T230000Z
DTEND:20181130T010000Z
X-MICROSOFT-CDO-ALLDAYEVENT:FALSE
SUMMARY:Industry Mixer
DESCRIPTION:IG Wealth Management and the Chamber invite all client-facing\n\nprofessionals and business owners to join us for\n\nsome networking over light refreshments. Come\n\nJoin us at Earls! \n\n\n\nSponsored by BP Wealth management
X-ALT-DESC;FMTTYPE=text/html:IG Wealth Management and the Chamber&nbsp\;invite all client-facing<br />\nprofessionals and business owners to join us for<br />\nsome networking over light refreshments. Come<br />\nJoin us at Earls!&nbsp\;<br />\n<br />\nSponsored by BP Wealth management
LOCATION:Earls 9802 Morrison Street
UID:e.2702.1231
SEQUENCE:3
DTSTAMP:20260426T022200Z
URL:http://fortmcmurraychamber.chambermaster.com/events/details/industry-mixer-1231
END:VEVENT

END:VCALENDAR
