BEGIN:VCALENDAR
VERSION:2.0
PRODID:-//ChamberMaster//Event Calendar 2.0//EN
METHOD:PUBLISH
X-PUBLISHED-TTL:P3D
REFRESH-INTERVAL:P3D
CALSCALE:GREGORIAN
BEGIN:VEVENT
DTSTART:20181213T170000Z
DTEND:20181214T050000Z
X-MICROSOFT-CDO-ALLDAYEVENT:FALSE
SUMMARY:Moonlight Madness
DESCRIPTION:Moonlight Madness is happening again on December 13!  Do you have a local business that's brick and mortar? If yes\, you'll want to be a part of this event that runs from 10am-10pm.  If no\, join us for a day of special deals and shopping!
X-ALT-DESC;FMTTYPE=text/html:<span style="color:#454545\;"><span style="font-family:arial\,sans-serif\;"><span style="font-size:14.0pt\;">Moonlight Madness is happening again on December 13!&nbsp\; Do you have a local business that&#39\;s brick and mortar? If yes\, you&#39\;ll want to be a part of this event that runs from 10am-10pm.&nbsp\; If no\, join us for a day of special deals and shopping!</span></span></span>
LOCATION:Various stores around Fort McMurray
UID:e.2702.1234
SEQUENCE:3
DTSTAMP:20260424T225021Z
URL:http://fortmcmurraychamber.chambermaster.com/events/details/moonlight-madness-1234
END:VEVENT

END:VCALENDAR
